Workbook

Sheet Sheet1
B6: Data Nilai UTS Mahasiswa
B7: No | C7: Nama Mahasiswa | D7: Nilai UTS Mahasiswa (40%) | E7: Nilai UAS Mahasiswa (40%) | F7: Keaktifan Mahasiswa (20%) | G7: Nilai Total (100%) | H7: Grade | I7: Status
B8: 1 | C8: Adul | D8: 100 | E8: 50 | F8: 30 | G8: =AVERAGE(D8:F8) -> 60 | H8: =IF(G8>=90,"A",IF(G8>=70,"B",IF(G8>=60,"C",IF(G8>=40,"D",IF(G8>=0,"E"))))) -> C | I8: =IF(G8>70,"LULUS",IF(G8>40,"REMEDI",IF(G8>0,"TIDAK LULUS"))) -> REMEDI
B9: 2 | C9: Adel | D9: 30 | E9: 40 | F9: 45 | G9: =AVERAGE(D9:F9) -> 38.333333 | H9: =IF(G9>=90,"A",IF(G9>=70,"B",IF(G9>=60,"C",IF(G9>=40,"D",IF(G9>=0,"E"))))) -> E | I9: =IF(G9>70,"LULUS",IF(G9>40,"REMEDI",IF(G9>0,"TIDAK LULUS"))) -> TIDAK LULUS
B10: 3 | C10: Andra | D10: 70 | E10: 100 | F10: 50 | G10: =AVERAGE(D10:F10) -> 73.333333 | H10: =IF(G10>=90,"A",IF(G10>=70,"B",IF(G10>=60,"C",IF(G10>=40,"D",IF(G10>=0,"E"))))) -> B | I10: =IF(G10>70,"LULUS",IF(G10>40,"REMEDI",IF(G10>0,"TIDAK LULUS"))) -> LULUS
B11: 4 | C11: Ujang | D11: 40 | E11: 89 | F11: 75 | G11: =AVERAGE(D11:F11) -> 68 | H11: =IF(G11>=90,"A",IF(G11>=70,"B",IF(G11>=60,"C",IF(G11>=40,"D",IF(G11>=0,"E"))))) -> C | I11: =IF(G11>70,"LULUS",IF(G11>40,"REMEDI",IF(G11>0,"TIDAK LULUS"))) -> REMEDI
B12: 5 | C12: Nunu | D12: 80 | E12: 75 | F12: 89 | G12: =AVERAGE(D12:F12) -> 81.333333 | H12: =IF(G12>=90,"A",IF(G12>=70,"B",IF(G12>=60,"C",IF(G12>=40,"D",IF(G12>=0,"E"))))) -> B | I12: =IF(G12>70,"LULUS",IF(G12>40,"REMEDI",IF(G12>0,"TIDAK LULUS"))) -> LULUS
B13: 6 | C13: Kipli | D13: 90 | E13: 45 | F13: 95 | G13: =AVERAGE(D13:F13) -> 76.666667 | H13: =IF(G13>=90,"A",IF(G13>=70,"B",IF(G13>=60,"C",IF(G13>=40,"D",IF(G13>=0,"E"))))) -> B | I13: =IF(G13>70,"LULUS",IF(G13>40,"REMEDI",IF(G13>0,"TIDAK LULUS"))) -> LULUS
B14: 7 | C14: Bagus | D14: 80 | E14: 90 | F14: 89 | G14: =AVERAGE(D14:F14) -> 86.333333 | H14: =IF(G14>=90,"A",IF(G14>=70,"B",IF(G14>=60,"C",IF(G14>=40,"D",IF(G14>=0,"E"))))) -> B | I14: =IF(G14>70,"LULUS",IF(G14>40,"REMEDI",IF(G14>0,"TIDAK LULUS"))) -> LULUS
B15: 8 | C15: Dara | D15: 100 | E15: 60 | F15: 100 | G15: =AVERAGE(D15:F15) -> 86.666667 | H15: =IF(G15>=90,"A",IF(G15>=70,"B",IF(G15>=60,"C",IF(G15>=40,"D",IF(G15>=0,"E"))))) -> B | I15: =IF(G15>70,"LULUS",IF(G15>40,"REMEDI",IF(G15>0,"TIDAK LULUS"))) -> LULUS
B16: 9 | C16: Utuh | D16: 20 | E16: 78 | F16: 100 | G16: =AVERAGE(D16:F16) -> 66 | H16: =IF(G16>=90,"A",IF(G16>=70,"B",IF(G16>=60,"C",IF(G16>=40,"D",IF(G16>=0,"E"))))) -> C | I16: =IF(G16>70,"LULUS",IF(G16>40,"REMEDI",IF(G16>0,"TIDAK LULUS"))) -> REMEDI
B17: 10 | C17: Mamat | D17: 80 | E17: 98 | F17: 100 | G17: =AVERAGE(D17:F17) -> 92.666667 | H17: =IF(G17>=90,"A",IF(G17>=70,"B",IF(G17>=60,"C",IF(G17>=40,"D",IF(G17>=0,"E"))))) -> A | I17: =IF(G17>70,"LULUS",IF(G17>40,"REMEDI",IF(G17>0,"TIDAK LULUS"))) -> LULUS
B18: 11 | C18: Enal | D18: 70 | E18: 89 | F18: 100 | G18: =AVERAGE(D18:F18) -> 86.333333 | H18: =IF(G18>=90,"A",IF(G18>=70,"B",IF(G18>=60,"C",IF(G18>=40,"D",IF(G18>=0,"E"))))) -> B | I18: =IF(G18>70,"LULUS",IF(G18>40,"REMEDI",IF(G18>0,"TIDAK LULUS"))) -> LULUS
B19: 12 | C19: Bando | D19: 90 | E19: 75 | F19: 100 | G19: =AVERAGE(D19:F19) -> 88.333333 | H19: =IF(G19>=90,"A",IF(G19>=70,"B",IF(G19>=60,"C",IF(G19>=40,"D",IF(G19>=0,"E"))))) -> B | I19: =IF(G19>70,"LULUS",IF(G19>40,"REMEDI",IF(G19>0,"TIDAK LULUS"))) -> LULUS
... B23: 16 | C23: Agus | D23: 50 | E23: 50 | F23: 59 | G23: =AVERAGE(D23:F23) -> 53 | H23: =IF(G23>=90,"A",IF(G23>=70,"B",IF(G23>=60,"C",IF(G23>=40,"D",IF(G23>=0,"E"))))) -> D | I23: =IF(G23>70,"LULUS",IF(G23>40,"REMEDI",IF(G23>0,"TIDAK LULUS"))) -> REMEDI

Sheet Sheet5

Sheet Sheet4
A3: No | B3: Nama Mahasiswa | C3: Nilai UTS Mahasiswa (40%) | D3: Nilai UAS Mahasiswa (40%) | E3: Keaktifan Mahasiswa (20%) | F3: Nilai Total (100%) | G3: Rata - Rata | H3: Grade | I3: Status
A4: 1 | B4: Adul | C4: =SUM(Sheet1!D8*40)/100 -> 40 | D4: =SUM(Sheet1!E8*40)/50 -> 40 | E4: =SUM(Sheet1!F8*20)/30 -> 20 | F4: =SUM(C4:E4) -> 100
A5: 2 | B5: Adel | C5: =SUM(Sheet1!D9*40)/100 -> 12 | D5: =SUM(Sheet1!E9*40)/50 -> 32 | E5: =SUM(Sheet1!F9*20)/30 -> 30 | F5: =SUM(C5:E5) -> 74
A6: 3 | B6: Andra | C6: =SUM(Sheet1!D10*40)/100 -> 28 | D6: =SUM(Sheet1!E10*40)/50 -> 80 | E6: =SUM(Sheet1!F10*20)/30 -> 33.333333 | F6: =SUM(C6:E6) -> 141.33333
A7: 4 | B7: Ujang | C7: =SUM(Sheet1!D11*40)/100 -> 16 | D7: =SUM(Sheet1!E11*40)/50 -> 71.2 | E7: =SUM(Sheet1!F11*20)/30 -> 50 | F7: =SUM(C7:E7) -> 137.2
A8: 5 | B8: Nunu | C8: =SUM(Sheet1!D12*40)/100 -> 32 | D8: =SUM(Sheet1!E12*40)/50 -> 60 | E8: =SUM(Sheet1!F12*20)/30 -> 59.333333 | F8: =SUM(C8:E8) -> 151.33333
A9: 6 | B9: Kipli | C9: =SUM(Sheet1!D13*40)/100 -> 36 | D9: =SUM(Sheet1!E13*40)/50 -> 36 | E9: =SUM(Sheet1!F13*20)/30 -> 63.333333 | F9: =SUM(C9:E9) -> 135.33333
A10: 7 | B10: Bagus | C10: =SUM(Sheet1!D14*40)/100 -> 32 | D10: =SUM(Sheet1!E14*40)/50 -> 72 | E10: =SUM(Sheet1!F14*20)/30 -> 59.333333 | F10: =SUM(C10:E10) -> 163.33333
A11: 8 | B11: Dara | C11: =SUM(Sheet1!D15*40)/100 -> 40 | D11: =SUM(Sheet1!E15*40)/50 -> 48 | E11: =SUM(Sheet1!F15*20)/30 -> 66.666667 | F11: =SUM(C11:E11) -> 154.66667
A12: 9 | B12: Utuh | C12: =SUM(Sheet1!D16*40)/100 -> 8 | D12: =SUM(Sheet1!E16*40)/50 -> 62.4 | E12: =SUM(Sheet1!F16*20)/30 -> 66.666667 | F12: =SUM(C12:E12) -> 137.06667
A13: 10 | B13: Mamat | C13: =SUM(Sheet1!D17*40)/100 -> 32 | D13: =SUM(Sheet1!E17*40)/50 -> 78.4 | E13: =SUM(Sheet1!F17*20)/30 -> 66.666667 | F13: =SUM(C13:E13) -> 177.06667
A14: 11 | B14: Enal | C14: =SUM(Sheet1!D18*40)/100 -> 28 | D14: =SUM(Sheet1!E18*40)/50 -> 71.2 | E14: =SUM(Sheet1!F18*20)/30 -> 66.666667 | F14: =SUM(C14:E14) -> 165.86667
A15: 12 | B15: Bando | C15: =SUM(Sheet1!D19*40)/100 -> 36 | D15: =SUM(Sheet1!E19*40)/50 -> 60 | E15: =SUM(Sheet1!F19*20)/30 -> 66.666667 | F15: =SUM(C15:E15) -> 162.66667
... A19: 16 | B19: Agus | C19: =SUM(Sheet1!D23*40)/100 -> 20 | D19: =SUM(Sheet1!E23*40)/50 -> 40 | E19: =SUM(Sheet1!F23*20)/30 -> 39.333333 | F19: =SUM(C19:E19) -> 99.333333
